Package: PanomiR Version: 1.8.0 Command: rm -rf PanomiR.buildbin-libdir && mkdir PanomiR.buildbin-libdir && F:\biocbuild\bbs-3.19-bioc\R\bin\R.exe CMD INSTALL --build --library=PanomiR.buildbin-libdir PanomiR_1.8.0.tar.gz StartedAt: 2024-06-27 08:38:49 -0400 (Thu, 27 Jun 2024) EndedAt: 2024-06-27 08:38:58 -0400 (Thu, 27 Jun 2024) EllapsedTime: 9.2 seconds RetCode: 0 Status: OK PackageFile: PanomiR_1.8.0.zip PackageFileSize: 2.071 MiB