Package: PanomiR Version: 1.8.0 Command: /home/biocbuild/bbs-3.19-bioc/R/bin/R CMD build --keep-empty-dirs --no-resave-data PanomiR StartedAt: 2024-10-16 20:02:41 -0400 (Wed, 16 Oct 2024) EndedAt: 2024-10-16 20:03:27 -0400 (Wed, 16 Oct 2024) EllapsedTime: 46.2 seconds RetCode: 0 Status: OK PackageFile: PanomiR_1.8.0.tar.gz PackageFileSize: 1.98 MiB