Package: PanomiR Version: 1.8.0 Command: rm -rf PanomiR.buildbin-libdir && mkdir PanomiR.buildbin-libdir && /Users/biocbuild/BBS/utils/build-universal.sh PanomiR_1.8.0.tar.gz /Library/Frameworks/R.framework/Resources/bin/R PanomiR.buildbin-libdir StartedAt: 2024-10-17 16:48:31 -0400 (Thu, 17 Oct 2024) EndedAt: 2024-10-17 16:48:39 -0400 (Thu, 17 Oct 2024) EllapsedTime: 8.5 seconds RetCode: 0 Status: OK PackageFile: PanomiR_1.8.0.tgz PackageFileSize: 2.066 MiB