Package: PanViz Version: 1.6.0 Command: chmod a+r PanViz -R && F:\biocbuild\bbs-3.19-bioc\R\bin\R.exe CMD build --keep-empty-dirs --no-resave-data PanViz StartedAt: 2024-06-26 20:51:35 -0400 (Wed, 26 Jun 2024) EndedAt: 2024-06-26 20:52:38 -0400 (Wed, 26 Jun 2024) EllapsedTime: 63.2 seconds RetCode: 0 Status: OK PackageFile: PanViz_1.6.0.tar.gz PackageFileSize: 1.885 MiB