Package: PanViz Version: 1.6.0 Command: /Library/Frameworks/R.framework/Resources/bin/R CMD build --keep-empty-dirs --no-resave-data PanViz StartedAt: 2024-10-16 21:54:38 -0400 (Wed, 16 Oct 2024) EndedAt: 2024-10-16 21:55:44 -0400 (Wed, 16 Oct 2024) EllapsedTime: 65.2 seconds RetCode: 0 Status: OK PackageFile: PanViz_1.6.0.tar.gz PackageFileSize: 2.125 MiB