Package: PanViz Version: 1.6.0 Command: rm -rf PanViz.buildbin-libdir && mkdir PanViz.buildbin-libdir && /Users/biocbuild/BBS/utils/build-universal.sh PanViz_1.6.0.tar.gz /Library/Frameworks/R.framework/Resources/bin/R PanViz.buildbin-libdir StartedAt: 2024-10-17 16:48:39 -0400 (Thu, 17 Oct 2024) EndedAt: 2024-10-17 16:48:50 -0400 (Thu, 17 Oct 2024) EllapsedTime: 10.8 seconds RetCode: 0 Status: OK PackageFile: PanViz_1.6.0.tgz PackageFileSize: 2.062 MiB