Package: PWMEnrich Version: 4.40.0 Command: /home/biocbuild/R/R-beta-2024-04-15_r86425/bin/R CMD build --keep-empty-dirs --no-resave-data PWMEnrich StartedAt: 2024-05-09 02:41:47 -0000 (Thu, 09 May 2024) EndedAt: 2024-05-09 02:43:28 -0000 (Thu, 09 May 2024) EllapsedTime: 100.1 seconds RetCode: 0 Status: OK PackageFile: PWMEnrich_4.40.0.tar.gz PackageFileSize: 1.581 MiB