Package: PSMatch Version: 1.8.0 Command: F:\biocbuild\bbs-3.19-bioc\R\bin\R.exe CMD check --no-multiarch --install=check:PSMatch.install-out.txt --library=F:\biocbuild\bbs-3.19-bioc\R\library --no-vignettes --timings PSMatch_1.8.0.tar.gz StartedAt: 2024-06-27 04:57:59 -0400 (Thu, 27 Jun 2024) EndedAt: 2024-06-27 05:03:00 -0400 (Thu, 27 Jun 2024) EllapsedTime: 300.6 seconds RetCode: 0 Status: OK CheckDir: PSMatch.Rcheck Warnings: 0