Package: PSMatch Version: 1.8.0 Command: /home/biocbuild/R/R-beta-2024-04-15_r86425/bin/R CMD check --install=check:PSMatch.install-out.txt --library=/home/biocbuild/R/R-beta-2024-04-15_r86425/site-library --no-vignettes --timings PSMatch_1.8.0.tar.gz StartedAt: 2024-05-09 10:46:56 -0000 (Thu, 09 May 2024) EndedAt: 2024-05-09 10:52:28 -0000 (Thu, 09 May 2024) EllapsedTime: 331.5 seconds RetCode: 0 Status: OK CheckDir: PSMatch.Rcheck Warnings: 0