Package: PSMatch Version: 1.8.0 Command: rm -rf PSMatch.buildbin-libdir && mkdir PSMatch.buildbin-libdir && /Users/biocbuild/BBS/utils/build-universal.sh PSMatch_1.8.0.tar.gz /Library/Frameworks/R.framework/Resources/bin/R PSMatch.buildbin-libdir StartedAt: 2024-06-11 12:37:12 -0400 (Tue, 11 Jun 2024) EndedAt: 2024-06-11 12:38:11 -0400 (Tue, 11 Jun 2024) EllapsedTime: 58.4 seconds RetCode: 0 Status: OK PackageFile: PSMatch_1.8.0.tgz PackageFileSize: 1.739 MiB