Package: PSMatch Version: 1.8.0 Command: /Library/Frameworks/R.framework/Resources/bin/R CMD build --keep-empty-dirs --no-resave-data PSMatch StartedAt: 2024-10-17 06:48:33 -0400 (Thu, 17 Oct 2024) EndedAt: 2024-10-17 06:50:48 -0400 (Thu, 17 Oct 2024) EllapsedTime: 135.4 seconds RetCode: 0 Status: OK PackageFile: PSMatch_1.8.0.tar.gz PackageFileSize: 1.423 MiB