Package: PSEA Version: 1.38.0 Command: rm -rf PSEA.buildbin-libdir && mkdir PSEA.buildbin-libdir && F:\biocbuild\bbs-3.19-bioc\R\bin\R.exe CMD INSTALL --build --library=PSEA.buildbin-libdir PSEA_1.38.0.tar.gz StartedAt: 2024-06-27 08:42:40 -0400 (Thu, 27 Jun 2024) EndedAt: 2024-06-27 08:42:57 -0400 (Thu, 27 Jun 2024) EllapsedTime: 17.4 seconds RetCode: 0 Status: OK PackageFile: PSEA_1.38.0.zip PackageFileSize: 6.165 MiB