Package: PSEA Version: 1.38.0 Command: rm -rf PSEA.buildbin-libdir && mkdir PSEA.buildbin-libdir && /Users/biocbuild/BBS/utils/build-universal.sh PSEA_1.38.0.tar.gz /Library/Frameworks/R.framework/Resources/bin/R PSEA.buildbin-libdir StartedAt: 2024-10-17 16:53:21 -0400 (Thu, 17 Oct 2024) EndedAt: 2024-10-17 16:53:31 -0400 (Thu, 17 Oct 2024) EllapsedTime: 9.5 seconds RetCode: 0 Status: OK PackageFile: PSEA_1.38.0.tgz PackageFileSize: 6.161 MiB