Package: PSEA Version: 1.38.0 Command: /Library/Frameworks/R.framework/Resources/bin/R CMD INSTALL PSEA StartedAt: 2024-06-09 15:04:12 -0400 (Sun, 09 Jun 2024) EndedAt: 2024-06-09 15:04:30 -0400 (Sun, 09 Jun 2024) EllapsedTime: 18.2 seconds RetCode: 0 Status: OK