Package: PSEA Version: 1.38.0 Command: rm -rf PSEA.buildbin-libdir && mkdir PSEA.buildbin-libdir && /Users/biocbuild/BBS/utils/build-universal.sh PSEA_1.38.0.tar.gz /Library/Frameworks/R.framework/Resources/bin/R PSEA.buildbin-libdir StartedAt: 2024-06-11 12:37:09 -0400 (Tue, 11 Jun 2024) EndedAt: 2024-06-11 12:37:18 -0400 (Tue, 11 Jun 2024) EllapsedTime: 8.9 seconds RetCode: 0 Status: OK PackageFile: PSEA_1.38.0.tgz PackageFileSize: 6.16 MiB