Package: PSEA Version: 1.38.0 Maintainer: Alexandre Kuhn MaintainerEmail: alexandre.m.kuhn at gmail.com git_url: https://git.bioconductor.org/packages/PSEA git_branch: RELEASE_3_19 git_last_commit: 0d02640 git_last_commit_date: 2024-04-30 10:39:06 -0400 (Tue, 30 Apr 2024)