Package: PROcess Version: 1.80.0 Command: E:\biocbuild\bbs-3.19-bioc\R\bin\R.exe CMD INSTALL PROcess StartedAt: 2024-10-16 16:55:36 -0400 (Wed, 16 Oct 2024) EndedAt: 2024-10-16 16:55:53 -0400 (Wed, 16 Oct 2024) EllapsedTime: 17.1 seconds RetCode: 0 Status: OK