Package: PROcess Version: 1.80.0 Command: chmod a+r PROcess -R && E:\biocbuild\bbs-3.19-bioc\R\bin\R.exe CMD build --keep-empty-dirs --no-resave-data PROcess StartedAt: 2024-10-16 21:13:30 -0400 (Wed, 16 Oct 2024) EndedAt: 2024-10-16 21:13:55 -0400 (Wed, 16 Oct 2024) EllapsedTime: 25.4 seconds RetCode: 0 Status: OK PackageFile: PROcess_1.80.0.tar.gz PackageFileSize: 1.912 MiB