Package: PROcess Version: 1.80.0 Command: rm -rf PROcess.buildbin-libdir && mkdir PROcess.buildbin-libdir && E:\biocbuild\bbs-3.19-bioc\R\bin\R.exe CMD INSTALL --build --library=PROcess.buildbin-libdir PROcess_1.80.0.tar.gz StartedAt: 2024-10-17 08:22:43 -0400 (Thu, 17 Oct 2024) EndedAt: 2024-10-17 08:22:57 -0400 (Thu, 17 Oct 2024) EllapsedTime: 13.7 seconds RetCode: 0 Status: OK PackageFile: PROcess_1.80.0.zip PackageFileSize: 1.973 MiB