Package: PROPS Version: 1.26.0 Command: E:\biocbuild\bbs-3.19-bioc\R\bin\R.exe CMD check --no-multiarch --install=check:PROPS.install-out.txt --library=E:\biocbuild\bbs-3.19-bioc\R\library --no-vignettes --timings PROPS_1.26.0.tar.gz StartedAt: 2024-07-29 04:27:57 -0400 (Mon, 29 Jul 2024) EndedAt: 2024-07-29 04:33:24 -0400 (Mon, 29 Jul 2024) EllapsedTime: 326.5 seconds RetCode: 0 Status: OK CheckDir: PROPS.Rcheck Warnings: 0