Package: PROPS Version: 1.26.0 Command: rm -rf PROPS.buildbin-libdir && mkdir PROPS.buildbin-libdir && F:\biocbuild\bbs-3.19-bioc\R\bin\R.exe CMD INSTALL --build --library=PROPS.buildbin-libdir PROPS_1.26.0.tar.gz StartedAt: 2024-06-27 08:42:24 -0400 (Thu, 27 Jun 2024) EndedAt: 2024-06-27 08:42:54 -0400 (Thu, 27 Jun 2024) EllapsedTime: 30.0 seconds RetCode: 0 Status: OK PackageFile: PROPS_1.26.0.zip PackageFileSize: 3.606 MiB