Package: PROPS Version: 1.26.0 Command: rm -rf PROPS.buildbin-libdir && mkdir PROPS.buildbin-libdir && /Users/biocbuild/BBS/utils/build-universal.sh PROPS_1.26.0.tar.gz /Library/Frameworks/R.framework/Resources/bin/R PROPS.buildbin-libdir StartedAt: 2024-07-23 18:03:55 -0400 (Tue, 23 Jul 2024) EndedAt: 2024-07-23 18:04:21 -0400 (Tue, 23 Jul 2024) EllapsedTime: 26.1 seconds RetCode: 0 Status: OK PackageFile: PROPS_1.26.0.tgz PackageFileSize: 3.602 MiB