Package: PROPS Version: 1.26.0 Maintainer: Lichy Han MaintainerEmail: lhan2 at stanford.edu git_url: https://git.bioconductor.org/packages/PROPS git_branch: RELEASE_3_19 git_last_commit: 46930bc git_last_commit_date: 2024-04-30 11:02:19 -0400 (Tue, 30 Apr 2024)