Package: PROPER Version: 1.36.0 Command: E:\biocbuild\bbs-3.19-bioc\R\bin\R.exe CMD INSTALL PROPER StartedAt: 2024-10-16 16:10:37 -0400 (Wed, 16 Oct 2024) EndedAt: 2024-10-16 16:10:51 -0400 (Wed, 16 Oct 2024) EllapsedTime: 13.9 seconds RetCode: 0 Status: OK