Package: PROPER Version: 1.36.0 Command: rm -rf PROPER.buildbin-libdir && mkdir PROPER.buildbin-libdir && E:\biocbuild\bbs-3.19-bioc\R\bin\R.exe CMD INSTALL --build --library=PROPER.buildbin-libdir PROPER_1.36.0.tar.gz StartedAt: 2024-10-17 08:23:10 -0400 (Thu, 17 Oct 2024) EndedAt: 2024-10-17 08:23:19 -0400 (Thu, 17 Oct 2024) EllapsedTime: 8.7 seconds RetCode: 0 Status: OK PackageFile: PROPER_1.36.0.zip PackageFileSize: 1.576 MiB