Package: PROPER Version: 1.36.0 Command: /Library/Frameworks/R.framework/Resources/bin/R CMD build --keep-empty-dirs --no-resave-data PROPER StartedAt: 2024-10-17 06:46:00 -0400 (Thu, 17 Oct 2024) EndedAt: 2024-10-17 06:46:16 -0400 (Thu, 17 Oct 2024) EllapsedTime: 16.1 seconds RetCode: 0 Status: OK PackageFile: PROPER_1.36.0.tar.gz PackageFileSize: 1.8 MiB