Package: PROMISE Version: 1.56.0 Command: chmod a+r PROMISE -R && E:\biocbuild\bbs-3.19-bioc\R\bin\R.exe CMD build --keep-empty-dirs --no-resave-data PROMISE StartedAt: 2024-10-16 21:14:20 -0400 (Wed, 16 Oct 2024) EndedAt: 2024-10-16 21:14:52 -0400 (Wed, 16 Oct 2024) EllapsedTime: 32.2 seconds RetCode: 0 Status: OK PackageFile: PROMISE_1.56.0.tar.gz PackageFileSize: 135.7 KiB