Package: PROMISE Version: 1.56.0 Command: rm -rf PROMISE.buildbin-libdir && mkdir PROMISE.buildbin-libdir && E:\biocbuild\bbs-3.19-bioc\R\bin\R.exe CMD INSTALL --build --library=PROMISE.buildbin-libdir PROMISE_1.56.0.tar.gz StartedAt: 2024-10-17 08:23:07 -0400 (Thu, 17 Oct 2024) EndedAt: 2024-10-17 08:23:27 -0400 (Thu, 17 Oct 2024) EllapsedTime: 19.8 seconds RetCode: 0 Status: OK PackageFile: PROMISE_1.56.0.zip PackageFileSize: 182.3 KiB