Package: PROMISE Version: 1.56.0 Command: /home/biocbuild/bbs-3.19-bioc/R/bin/R CMD check --install=check:PROMISE.install-out.txt --library=/home/biocbuild/bbs-3.19-bioc/R/site-library --timings PROMISE_1.56.0.tar.gz StartedAt: 2024-10-17 03:56:21 -0400 (Thu, 17 Oct 2024) EndedAt: 2024-10-17 03:58:15 -0400 (Thu, 17 Oct 2024) EllapsedTime: 114.3 seconds RetCode: 0 Status: OK CheckDir: PROMISE.Rcheck Warnings: 0