Package: PROMISE Version: 1.56.0 Command: /Library/Frameworks/R.framework/Resources/bin/R CMD check --install=check:PROMISE.install-out.txt --library=/Library/Frameworks/R.framework/Resources/library --no-vignettes --timings PROMISE_1.56.0.tar.gz StartedAt: 2024-10-17 11:10:00 -0400 (Thu, 17 Oct 2024) EndedAt: 2024-10-17 11:14:13 -0400 (Thu, 17 Oct 2024) EllapsedTime: 253.7 seconds RetCode: 0 Status: OK CheckDir: PROMISE.Rcheck Warnings: 0