Package: PROMISE Version: 1.56.0 Command: /Library/Frameworks/R.framework/Resources/bin/R CMD check --install=check:PROMISE.install-out.txt --library=/Library/Frameworks/R.framework/Resources/library --no-vignettes --timings PROMISE_1.56.0.tar.gz StartedAt: 2024-10-18 08:04:20 -0400 (Fri, 18 Oct 2024) EndedAt: 2024-10-18 08:06:33 -0400 (Fri, 18 Oct 2024) EllapsedTime: 132.4 seconds RetCode: 0 Status: OK CheckDir: PROMISE.Rcheck Warnings: 0