Package: PROMISE Version: 1.56.0 Command: /Library/Frameworks/R.framework/Resources/bin/R CMD build --keep-empty-dirs --no-resave-data PROMISE StartedAt: 2024-10-17 06:45:27 -0400 (Thu, 17 Oct 2024) EndedAt: 2024-10-17 06:46:00 -0400 (Thu, 17 Oct 2024) EllapsedTime: 33.5 seconds RetCode: 0 Status: OK PackageFile: PROMISE_1.56.0.tar.gz PackageFileSize: 135.3 KiB