Package: PROMISE Version: 1.56.0 Command: rm -rf PROMISE.buildbin-libdir && mkdir PROMISE.buildbin-libdir && /Users/biocbuild/BBS/utils/build-universal.sh PROMISE_1.56.0.tar.gz /Library/Frameworks/R.framework/Resources/bin/R PROMISE.buildbin-libdir StartedAt: 2024-10-18 20:02:20 -0400 (Fri, 18 Oct 2024) EndedAt: 2024-10-18 20:02:43 -0400 (Fri, 18 Oct 2024) EllapsedTime: 22.8 seconds RetCode: 0 Status: OK PackageFile: PROMISE_1.56.0.tgz PackageFileSize: 177.4 KiB