Package: PREDA Version: 1.50.0 Command: chmod a+r PREDA -R && E:\biocbuild\bbs-3.19-bioc\R\bin\R.exe CMD build --keep-empty-dirs --no-resave-data PREDA StartedAt: 2024-10-16 21:12:56 -0400 (Wed, 16 Oct 2024) EndedAt: 2024-10-16 21:15:50 -0400 (Wed, 16 Oct 2024) EllapsedTime: 173.7 seconds RetCode: 0 Status: OK PackageFile: PREDA_1.50.0.tar.gz PackageFileSize: 1.762 MiB