Package: PREDA Version: 1.50.0 Command: F:\biocbuild\bbs-3.19-bioc\R\bin\R.exe CMD check --no-multiarch --install=check:PREDA.install-out.txt --library=F:\biocbuild\bbs-3.19-bioc\R\library --no-vignettes --timings PREDA_1.50.0.tar.gz StartedAt: 2024-06-27 04:52:23 -0400 (Thu, 27 Jun 2024) EndedAt: 2024-06-27 04:54:40 -0400 (Thu, 27 Jun 2024) EllapsedTime: 137.2 seconds RetCode: 0 Status: WARNINGS CheckDir: PREDA.Rcheck Warnings: 1