Package: PREDA Version: 1.50.0 Command: chmod a+r PREDA -R && F:\biocbuild\bbs-3.19-bioc\R\bin\R.exe CMD build --keep-empty-dirs --no-resave-data PREDA StartedAt: 2024-06-26 21:05:10 -0400 (Wed, 26 Jun 2024) EndedAt: 2024-06-26 21:08:23 -0400 (Wed, 26 Jun 2024) EllapsedTime: 193.8 seconds RetCode: 0 Status: OK PackageFile: PREDA_1.50.0.tar.gz PackageFileSize: 1.761 MiB