Package: PREDA Version: 1.50.0 Command: rm -rf PREDA.buildbin-libdir && mkdir PREDA.buildbin-libdir && F:\biocbuild\bbs-3.19-bioc\R\bin\R.exe CMD INSTALL --build --library=PREDA.buildbin-libdir PREDA_1.50.0.tar.gz StartedAt: 2024-06-27 08:41:45 -0400 (Thu, 27 Jun 2024) EndedAt: 2024-06-27 08:42:26 -0400 (Thu, 27 Jun 2024) EllapsedTime: 41.1 seconds RetCode: 0 Status: OK PackageFile: PREDA_1.50.0.zip PackageFileSize: 1.756 MiB