Package: PREDA Version: 1.50.0 Command: /home/biocbuild/bbs-3.19-bioc/R/bin/R CMD INSTALL PREDA StartedAt: 2024-10-16 16:32:33 -0400 (Wed, 16 Oct 2024) EndedAt: 2024-10-16 16:32:54 -0400 (Wed, 16 Oct 2024) EllapsedTime: 20.8 seconds RetCode: 0 Status: OK