Package: PREDA Version: 1.50.0 Command: /home/biocbuild/bbs-3.19-bioc/R/bin/R CMD build --keep-empty-dirs --no-resave-data PREDA StartedAt: 2024-10-16 20:11:34 -0400 (Wed, 16 Oct 2024) EndedAt: 2024-10-16 20:13:25 -0400 (Wed, 16 Oct 2024) EllapsedTime: 110.2 seconds RetCode: 0 Status: OK PackageFile: PREDA_1.50.0.tar.gz PackageFileSize: 1.757 MiB