Package: PREDA Version: 1.50.0 Command: rm -rf PREDA.buildbin-libdir && mkdir PREDA.buildbin-libdir && /Users/biocbuild/BBS/utils/build-universal.sh PREDA_1.50.0.tar.gz /Library/Frameworks/R.framework/Resources/bin/R PREDA.buildbin-libdir StartedAt: 2024-10-17 16:52:01 -0400 (Thu, 17 Oct 2024) EndedAt: 2024-10-17 16:52:59 -0400 (Thu, 17 Oct 2024) EllapsedTime: 57.5 seconds RetCode: 0 Status: OK PackageFile: PREDA_1.50.0.tgz PackageFileSize: 1.996 MiB