Package: PREDA Version: 1.50.0 Command: /home/biocbuild/R/R-beta-2024-04-15_r86425/bin/R CMD build --keep-empty-dirs --no-resave-data PREDA StartedAt: 2024-05-09 02:35:36 -0000 (Thu, 09 May 2024) EndedAt: 2024-05-09 02:38:24 -0000 (Thu, 09 May 2024) EllapsedTime: 168.2 seconds RetCode: 0 Status: OK PackageFile: PREDA_1.50.0.tar.gz PackageFileSize: 1.975 MiB