Package: PREDA Version: 1.50.0 Command: /Library/Frameworks/R.framework/Resources/bin/R CMD build --keep-empty-dirs --no-resave-data PREDA StartedAt: 2024-06-10 02:44:04 -0400 (Mon, 10 Jun 2024) EndedAt: 2024-06-10 02:47:19 -0400 (Mon, 10 Jun 2024) EllapsedTime: 195.5 seconds RetCode: 0 Status: OK PackageFile: PREDA_1.50.0.tar.gz PackageFileSize: 2.003 MiB