Package: PREDA Version: 1.50.0 Command: /Library/Frameworks/R.framework/Resources/bin/R CMD build --keep-empty-dirs --no-resave-data PREDA StartedAt: 2024-10-17 06:40:18 -0400 (Thu, 17 Oct 2024) EndedAt: 2024-10-17 06:42:57 -0400 (Thu, 17 Oct 2024) EllapsedTime: 159.5 seconds RetCode: 0 Status: OK PackageFile: PREDA_1.50.0.tar.gz PackageFileSize: 2.005 MiB