Package: PREDA Version: 1.50.0 Command: rm -rf PREDA.buildbin-libdir && mkdir PREDA.buildbin-libdir && /Users/biocbuild/BBS/utils/build-universal.sh PREDA_1.50.0.tar.gz /Library/Frameworks/R.framework/Resources/bin/R PREDA.buildbin-libdir StartedAt: 2024-10-18 20:00:40 -0400 (Fri, 18 Oct 2024) EndedAt: 2024-10-18 20:01:10 -0400 (Fri, 18 Oct 2024) EllapsedTime: 29.2 seconds RetCode: 0 Status: OK PackageFile: PREDA_1.50.0.tgz PackageFileSize: 1.996 MiB