Package: PREDA Version: 1.50.0 Maintainer: Francesco Ferrari MaintainerEmail: francesco.ferrari at ifom.eu git_url: https://git.bioconductor.org/packages/PREDA git_branch: RELEASE_3_19 git_last_commit: da0cc9f git_last_commit_date: 2024-04-30 10:25:11 -0400 (Tue, 30 Apr 2024)