Package: PPInfer Version: 1.30.0 Command: E:\biocbuild\bbs-3.19-bioc\R\bin\R.exe CMD INSTALL PPInfer StartedAt: 2024-10-16 17:02:15 -0400 (Wed, 16 Oct 2024) EndedAt: 2024-10-16 17:02:44 -0400 (Wed, 16 Oct 2024) EllapsedTime: 29.9 seconds RetCode: 0 Status: OK