Package: PPInfer Version: 1.30.0 Command: chmod a+r PPInfer -R && E:\biocbuild\bbs-3.19-bioc\R\bin\R.exe CMD build --keep-empty-dirs --no-resave-data PPInfer StartedAt: 2024-10-16 21:11:50 -0400 (Wed, 16 Oct 2024) EndedAt: 2024-10-16 21:12:56 -0400 (Wed, 16 Oct 2024) EllapsedTime: 65.1 seconds RetCode: 0 Status: OK PackageFile: PPInfer_1.30.0.tar.gz PackageFileSize: 209 KiB