Package: PPInfer Version: 1.30.0 Command: rm -rf PPInfer.buildbin-libdir && mkdir PPInfer.buildbin-libdir && E:\biocbuild\bbs-3.19-bioc\R\bin\R.exe CMD INSTALL --build --library=PPInfer.buildbin-libdir PPInfer_1.30.0.tar.gz StartedAt: 2024-10-17 08:22:25 -0400 (Thu, 17 Oct 2024) EndedAt: 2024-10-17 08:22:55 -0400 (Thu, 17 Oct 2024) EllapsedTime: 30.3 seconds RetCode: 0 Status: OK PackageFile: PPInfer_1.30.0.zip PackageFileSize: 270.8 KiB