Package: PPInfer Version: 1.30.0 Command: rm -rf PPInfer.buildbin-libdir && mkdir PPInfer.buildbin-libdir && F:\biocbuild\bbs-3.19-bioc\R\bin\R.exe CMD INSTALL --build --library=PPInfer.buildbin-libdir PPInfer_1.30.0.tar.gz StartedAt: 2024-06-27 08:41:33 -0400 (Thu, 27 Jun 2024) EndedAt: 2024-06-27 08:42:13 -0400 (Thu, 27 Jun 2024) EllapsedTime: 40.1 seconds RetCode: 0 Status: OK PackageFile: PPInfer_1.30.0.zip PackageFileSize: 269.6 KiB