Package: PPInfer Version: 1.30.0 Command: /Library/Frameworks/R.framework/Resources/bin/R CMD build --keep-empty-dirs --no-resave-data PPInfer StartedAt: 2024-10-16 22:11:18 -0400 (Wed, 16 Oct 2024) EndedAt: 2024-10-16 22:13:21 -0400 (Wed, 16 Oct 2024) EllapsedTime: 123.2 seconds RetCode: 0 Status: OK PackageFile: PPInfer_1.30.0.tar.gz PackageFileSize: 326.5 KiB